BEGIN:VCALENDAR
VERSION:2.0
PRODID:-//eventon.com NONSGML v1.0//EN
CALSCALE:GREGORIAN
METHOD:PUBLISH
BEGIN:VEVENT
UID:69eb441055d08
DTSTAMP:20260424T102104Z
DTSTART:20220929T210000Z
DTEND:20220929T220000Z
LOCATION:Friendship Technology Preparatory High 2705 Martin Luther King Jr Ave SE
SUMMARY:KCP Volleyball @ Friendship Tech Prep
DESCRIPTION:KIPP DC games are open to all families and the community. Pleas
 e join us in person\,  and let’s continue to support and motivate our chi
 ldren during each game!\nhttps://www.kippdc.org/events/kcp-volleyball-frien
 dship-tech-prep/
URL:https://www.kippdc.org/events/kcp-volleyball-friendship-tech-prep/
END:VEVENT
END:VCALENDAR